BEGIN:VCALENDAR
VERSION:2.0
PRODID:-//Groep Arbeidsmediation - ECPv6.15.20//NONSGML v1.0//EN
CALSCALE:GREGORIAN
METHOD:PUBLISH
X-WR-CALNAME:Groep Arbeidsmediation
X-ORIGINAL-URL:https://groeparbeidsmediation.nl
X-WR-CALDESC:Evenementen voor Groep Arbeidsmediation
REFRESH-INTERVAL;VALUE=DURATION:PT1H
X-Robots-Tag:noindex
X-PUBLISHED-TTL:PT1H
BEGIN:VTIMEZONE
TZID:Europe/Amsterdam
BEGIN:DAYLIGHT
TZOFFSETFROM:+0100
TZOFFSETTO:+0200
TZNAME:CEST
DTSTART:20240331T010000
END:DAYLIGHT
BEGIN:STANDARD
TZOFFSETFROM:+0200
TZOFFSETTO:+0100
TZNAME:CET
DTSTART:20241027T010000
END:STANDARD
BEGIN:DAYLIGHT
TZOFFSETFROM:+0100
TZOFFSETTO:+0200
TZNAME:CEST
DTSTART:20250330T010000
END:DAYLIGHT
BEGIN:STANDARD
TZOFFSETFROM:+0200
TZOFFSETTO:+0100
TZNAME:CET
DTSTART:20251026T010000
END:STANDARD
BEGIN:DAYLIGHT
TZOFFSETFROM:+0100
TZOFFSETTO:+0200
TZNAME:CEST
DTSTART:20260329T010000
END:DAYLIGHT
BEGIN:STANDARD
TZOFFSETFROM:+0200
TZOFFSETTO:+0100
TZNAME:CET
DTSTART:20261025T010000
END:STANDARD
END:VTIMEZONE
BEGIN:VEVENT
DTSTART;TZID=Europe/Amsterdam:20250311T180000
DTEND;TZID=Europe/Amsterdam:20250311T210000
DTSTAMP:20260424T100807
CREATED:20250211T090109Z
LAST-MODIFIED:20250211T090109Z
UID:442-1741716000-1741726800@groeparbeidsmediation.nl
SUMMARY:Psychologische Veiligheid en mediation
DESCRIPTION:Herman Schaeffer verzorgt de bijeenkomst over psychologische veiligheid en mediation. Een term die je steeds vaker langs hoort komen als het gaat om een fijne werkcultuur is “Psychologische Veiligheid”. Wat is het precies? Wat maakt de relatie of een team of interactie psychologisch veilig? Hoe verhoudt zich dit tot ons mediationvak? Welke kansen liggen hier voor ons als arbeidsmedaitors. \nLocatie De Amershof\, Snouckaertlaan 11\, 3811\, MA Amersfoort. Gratis parkeren aan achterzijde.
URL:https://groeparbeidsmediation.nl/event/psychologische-veiligheid-en-mediation/
LOCATION:Amershof\, Snouckaertlaan 11\, Amersfoort\, 3811 ma\, Nederland
END:VEVENT
END:VCALENDAR